BEGIN:VCALENDAR
VERSION:2.0
PRODID:icalendar-ruby
CALSCALE:GREGORIAN
METHOD:PUBLISH
BEGIN:VTIMEZONE
TZID:Australia/Perth
BEGIN:STANDARD
DTSTART:20090329T020000
TZOFFSETFROM:+0900
TZOFFSETTO:+0800
TZNAME:AWST
END:STANDARD
END:VTIMEZONE
BEGIN:VEVENT
DTSTAMP:20260424T104846Z
UID:inspection_3013040
DTSTART;TZID=Australia/Perth:20260428T160000
DTEND;TZID=Australia/Perth:20260428T161000
CLASS:PUBLIC
CREATED:20260424T153034
DESCRIPTION: 
LAST-MODIFIED:20260424T153034
LOCATION:233 Collins Street\, PICCADILLY WA 6430\, Australia
SUMMARY:233 Collins Street\,  Inspection
URL;VALUE=URI:http://www.jmsons.com.au/
END:VEVENT
END:VCALENDAR
